BEGIN:VCALENDAR
VERSION:2.0
PRODID:-//Csili Művelődési Központ - ECPv6.11.2//NONSGML v1.0//EN
CALSCALE:GREGORIAN
METHOD:PUBLISH
X-WR-CALNAME:Csili Művelődési Központ
X-ORIGINAL-URL:https://www.csili.hu
X-WR-CALDESC:Events for Csili Művelődési Központ
REFRESH-INTERVAL;VALUE=DURATION:PT1H
X-Robots-Tag:noindex
X-PUBLISHED-TTL:PT1H
BEGIN:VTIMEZONE
TZID:Europe/Budapest
BEGIN:DAYLIGHT
TZOFFSETFROM:+0100
TZOFFSETTO:+0200
TZNAME:CEST
DTSTART:20240331T010000
END:DAYLIGHT
BEGIN:STANDARD
TZOFFSETFROM:+0200
TZOFFSETTO:+0100
TZNAME:CET
DTSTART:20241027T010000
END:STANDARD
BEGIN:DAYLIGHT
TZOFFSETFROM:+0100
TZOFFSETTO:+0200
TZNAME:CEST
DTSTART:20250330T010000
END:DAYLIGHT
BEGIN:STANDARD
TZOFFSETFROM:+0200
TZOFFSETTO:+0100
TZNAME:CET
DTSTART:20251026T010000
END:STANDARD
BEGIN:DAYLIGHT
TZOFFSETFROM:+0100
TZOFFSETTO:+0200
TZNAME:CEST
DTSTART:20260329T010000
END:DAYLIGHT
BEGIN:STANDARD
TZOFFSETFROM:+0200
TZOFFSETTO:+0100
TZNAME:CET
DTSTART:20261025T010000
END:STANDARD
END:VTIMEZONE
BEGIN:VEVENT
DTSTART;TZID=Europe/Budapest:20260417T170000
DTEND;TZID=Europe/Budapest:20260417T200000
DTSTAMP:20260419T200255
CREATED:20250724T133810Z
LAST-MODIFIED:20260106T085346Z
UID:10035103-1776445200-1776456000@www.csili.hu
SUMMARY:English Game Night
DESCRIPTION:Angol nyelvű játék klub\, anyanyelvi oktató\, Emeshea Martha Pety vezetésével diákok számára. \nA részvétel ingyenes.
URL:https://www.csili.hu/esemeny/english-game-night/2026-04-17/
LOCATION:Csili Művelődési Központ Fszt. 2. terem\, Baross utca 55.\, Budapest\, 1201\, Magyarország
CATEGORIES:Hobby, Klubok
ATTACH;FMTTYPE=image/png:https://www.csili.hu/wp-content/uploads/2025/05/english-game-alt.png
ORGANIZER;CN="Cz%C3%BAni Imre":MAILTO:czuni.imre@csili.hu
END:VEVENT
BEGIN:VEVENT
DTSTART;TZID=Europe/Budapest:20241216T150000
DTEND;TZID=Europe/Budapest:20241216T170000
DTSTAMP:20260419T200255
CREATED:20240902T124305Z
LAST-MODIFIED:20250619T134517Z
UID:10023895-1734361200-1734368400@www.csili.hu
SUMMARY:Csili kézimunka alkotó kör
DESCRIPTION:Kötetlen\, jó hangulatú\, egymást segítő klubtagok között sajátíthatja el a kötés\, a horgolás\, a hímzés és a gobelinezés technikáit. \nA klubba várják az alkotni vágyó hölgyeket 10-100 éves korig. \nHavonta három alkalommal\, hétfőn 15-17-ig\,\, szombaton 10-12-ig. \nKlubnapok: \nSzeptember 2.\, hétfő 15-17 óra\, \nSzeptember 14.\,  szombat 10-12 óra\, \nSzeptember 23.\, hétfő 15-17 óra \nOktóber 5.\, szombat 10-12 óra \nOktóber 14.\, hétfő 15-17 óra \nOktóber 26.\, szombat 10-12 óra \nNovember 9.\, szombat 10-12 óra \nNovember 18.\, hétfő 15-17 óra \nNovember 25.\, hétfő 15-17 óra \nDecember 9.\, hétfő 15-17 óra \nDecember 16.\, hétfő 15-17 óra \n  \nVezeti: Lőrincz Judit \nÉves tagdíj: 5000 Ft
URL:https://www.csili.hu/esemeny/csili-kezimunka-alkoto-kor/2024-12-16/
LOCATION:Csili Művelődési Központ Fszt. 2. terem\, Baross utca 55.\, Budapest\, 1201\, Magyarország
CATEGORIES:Csoportok,Hobby, Klubok,Slider 3 (jobb)
ATTACH;FMTTYPE=image/jpeg:https://www.csili.hu/wp-content/uploads/2025/05/CSili-Kezimunka-Alkoto-Kor-scaled-1.jpg
ORGANIZER;CN="Kov%C3%A1cs Emese":MAILTO:kovacs.emese@csili.hu
END:VEVENT
BEGIN:VEVENT
DTSTART;TZID=Europe/Budapest:20241016T163000
DTEND;TZID=Europe/Budapest:20241016T200000
DTSTAMP:20260419T200255
CREATED:20240908T053352Z
LAST-MODIFIED:20250619T134238Z
UID:10023440-1729096200-1729108800@www.csili.hu
SUMMARY:Robotika
DESCRIPTION:2024. szeptember 11-től az ARDE Hungray Kft. szakkörvezetőjével indul robotszakkör a Csiliben! \nMiért jó a gyereknek\, hogy a robotika szakkörre jár?\n– Fejlődik a probléma megoldó készsége\n– Hiányszakmák alapjait tanulják meg\n– Csapat munkához szoknak\nAmit a szakkör keretében biztosítunk:\n-10 db EV3 LEGO robot\, illetve programozásához szükséges laptop.\nEzeket a robotokat grafikus „G” programnyelven programozzuk a szakkörön. \nA kezdő szakkör : 16.30-tól 7- 10 éveseknek (második osztályos kortól) 18.15-től – 11-14 éveseknek (a foglalkozások 90 percesek) \nDíja: 21.000 Ft/6 alkalom
URL:https://www.csili.hu/esemeny/robotika/2024-10-16/
LOCATION:Csili Művelődési Központ Fszt. 2. terem\, Baross utca 55.\, Budapest\, 1201\, Magyarország
CATEGORIES:Csoportok,Tanfolyam
ATTACH;FMTTYPE=image/jpeg:https://www.csili.hu/wp-content/uploads/2025/05/Robotika-szakkor_esemeny.jpg
ORGANIZER;CN="Kov%C3%A1cs Emese":MAILTO:kovacs.emese@csili.hu
END:VEVENT
END:VCALENDAR